BEGIN:VCALENDAR
VERSION:2.0
PRODID:-//Kinesitherapeuten - ECPv5.12.3//NONSGML v1.0//EN
CALSCALE:GREGORIAN
METHOD:PUBLISH
X-WR-CALNAME:Kinesitherapeuten
X-ORIGINAL-URL:https://kinesitherapeuten.be
X-WR-CALDESC:Evenementen voor Kinesitherapeuten
REFRESH-INTERVAL;VALUE=DURATION:PT1H
X-Robots-Tag:noindex
X-PUBLISHED-TTL:PT1H
BEGIN:VTIMEZONE
TZID:Europe/Helsinki
BEGIN:DAYLIGHT
TZOFFSETFROM:+0200
TZOFFSETTO:+0300
TZNAME:EEST
DTSTART:20170326T010000
END:DAYLIGHT
BEGIN:STANDARD
TZOFFSETFROM:+0300
TZOFFSETTO:+0200
TZNAME:EET
DTSTART:20171029T010000
END:STANDARD
END:VTIMEZONE
BEGIN:VEVENT
DTSTART;TZID=Europe/Helsinki:20171017T000000
DTEND;TZID=Europe/Helsinki:20171017T235959
DTSTAMP:20260419T160917
CREATED:20211011T102214Z
LAST-MODIFIED:20211011T102221Z
UID:1112-1508198400-1508284799@kinesitherapeuten.be
SUMMARY:De acute knie
DESCRIPTION:Spreker: Dr. Michaël Maes \n\n\n\nKeywords: Knie\, Acute pathologie
URL:https://kinesitherapeuten.be/event/de-acute-knie/
LOCATION:ZNA Middelheim\, Lindendreef 1\, Antwerpen\, Antwerpen\, 2020\, België
END:VEVENT
END:VCALENDAR